BEGIN:VCALENDAR
VERSION:2.0
PRODID:NOREA
NAME:Shared Audit Agents Framework (SAAF) Hackathons
X-WR-CALNAME:Shared Audit Agents Framework (SAAF) Hackathons
BEGIN:VTIMEZONE
TZID:Europe/Amsterdam
BEGIN:STANDARD
DTSTART:20251026T030000
TZOFFSETFROM:+0200
TZOFFSETTO:+0100
END:STANDARD
BEGIN:DAYLIGHT
DTSTART:20260329T030000
TZOFFSETFROM:+0100
TZOFFSETTO:+0200
END:DAYLIGHT
BEGIN:STANDARD
DTSTART:20261025T030000
TZOFFSETFROM:+0200
TZOFFSETTO:+0100
END:STANDARD
END:VTIMEZONE
BEGIN:VTIMEZONE
TZID:UTC
BEGIN:STANDARD
DTSTART:20250728T161508
TZOFFSETFROM:+0000
TZOFFSETTO:+0000
END:STANDARD
END:VTIMEZONE
BEGIN:VEVENT
UID:69eb970ce86e6
DTSTAMP:20260424T161508Z
SUMMARY:Shared Audit Agents Framework (SAAF) Hackathons
LOCATION:Mercuriusplein 3\, 2132 HA Hoofddorp
DTSTART;TZID=Europe/Amsterdam;VALUE=DATE:20260519
END:VEVENT
END:VCALENDAR