BEGIN:VCALENDAR
VERSION:2.0
PRODID:NOREA
NAME:Square table: de evaluatie van de IT-risicomanagementcyclus onder DORA
X-WR-CALNAME:Square table: de evaluatie van de IT-risicomanagementcyclus on
 der DORA
BEGIN:VTIMEZONE
TZID:Europe/Amsterdam
BEGIN:STANDARD
DTSTART:20251026T030000
TZOFFSETFROM:+0200
TZOFFSETTO:+0100
END:STANDARD
BEGIN:DAYLIGHT
DTSTART:20260329T030000
TZOFFSETFROM:+0100
TZOFFSETTO:+0200
END:DAYLIGHT
BEGIN:STANDARD
DTSTART:20261025T030000
TZOFFSETFROM:+0200
TZOFFSETTO:+0100
END:STANDARD
END:VTIMEZONE
BEGIN:VTIMEZONE
TZID:UTC
BEGIN:STANDARD
DTSTART:20250728T161927
TZOFFSETFROM:+0000
TZOFFSETTO:+0000
END:STANDARD
END:VTIMEZONE
BEGIN:VEVENT
UID:69eb980faf05a
DTSTAMP:20260424T161927Z
SUMMARY:Square table: de evaluatie van de IT-risicomanagementcyclus onder D
 ORA
DTSTART;TZID=Europe/Amsterdam;VALUE=DATE:20260429
END:VEVENT
END:VCALENDAR