BEGIN:VCALENDAR
VERSION:2.0
PRODID:NOREA
NAME:Round Table: A day in the cyberrisk office:
X-WR-CALNAME:Round Table: A day in the cyberrisk office:
BEGIN:VTIMEZONE
TZID:Europe/Amsterdam
BEGIN:STANDARD
DTSTART:20251026T030000
TZOFFSETFROM:+0200
TZOFFSETTO:+0100
END:STANDARD
BEGIN:DAYLIGHT
DTSTART:20260329T030000
TZOFFSETFROM:+0100
TZOFFSETTO:+0200
END:DAYLIGHT
BEGIN:STANDARD
DTSTART:20261025T030000
TZOFFSETFROM:+0200
TZOFFSETTO:+0100
END:STANDARD
END:VTIMEZONE
BEGIN:VTIMEZONE
TZID:UTC
BEGIN:STANDARD
DTSTART:20250728T161846
TZOFFSETFROM:+0000
TZOFFSETTO:+0000
END:STANDARD
END:VTIMEZONE
BEGIN:VEVENT
UID:69eb97e6073fb
DTSTAMP:20260424T161846Z
SUMMARY:Round Table: A day in the cyberrisk office:
DTSTART;TZID=Europe/Amsterdam;VALUE=DATE:20260617
END:VEVENT
END:VCALENDAR