BEGIN:VCALENDAR
VERSION:2.0
PRODID:NOREA
NAME:Round Table: NIS2/Cbw control framework
X-WR-CALNAME:Round Table: NIS2/Cbw control framework
BEGIN:VTIMEZONE
TZID:Europe/Amsterdam
BEGIN:STANDARD
DTSTART:20251026T030000
TZOFFSETFROM:+0200
TZOFFSETTO:+0100
END:STANDARD
BEGIN:DAYLIGHT
DTSTART:20260329T030000
TZOFFSETFROM:+0100
TZOFFSETTO:+0200
END:DAYLIGHT
BEGIN:STANDARD
DTSTART:20261025T030000
TZOFFSETFROM:+0200
TZOFFSETTO:+0100
END:STANDARD
END:VTIMEZONE
BEGIN:VTIMEZONE
TZID:UTC
BEGIN:STANDARD
DTSTART:20250728T161444
TZOFFSETFROM:+0000
TZOFFSETTO:+0000
END:STANDARD
END:VTIMEZONE
BEGIN:VEVENT
UID:69eb96f40f28f
DTSTAMP:20260424T161444Z
SUMMARY:Round Table: NIS2/Cbw control framework
LOCATION:Winthontlaan 4\, 3526 KV Utrecht
DTSTART;TZID=Europe/Amsterdam;VALUE=DATE:20260624
END:VEVENT
END:VCALENDAR